BEGIN:VCALENDAR
VERSION:2.0
PRODID:-//Department Of Education//857adea7-0724-4987-9327-754dcdcd74e8
BEGIN:VTIMEZONE
TZID:Australia/Sydney
TZURL:http://tzurl.org/zoneinfo-outlook/Australia/Sydney
X-LIC-LOCATION:Australia/Sydney
BEGIN:STANDARD
TZOFFSETFROM:+1100
TZOFFSETTO:+1000
TZNAME:AEST
DTSTART:19700405T030000
RRULE:FREQ=YEARLY;BYMONTH=4;BYDAY=1SU
END:STANDARD
BEGIN:DAYLIGHT
TZOFFSETFROM:+1000
TZOFFSETTO:+1100
TZNAME:AEDT
DTSTART:19701004T020000
RRULE:FREQ=YEARLY;BYMONTH=10;BYDAY=1SU
END:DAYLIGHT
END:VTIMEZONE
CALSCALE:GREGORIAN
X-WR-TIMEZONE:Australia/Sydney
BEGIN:VEVENT
DTSTART;TZID=Australia/Sydney:20190930T093000
DTEND;TZID=Australia/Sydney:20190930T100000
DTSTAMP:20190930T000000Z
UID:f890bd0e-a23a-450c-8436-fe6accccd4d3
LOCATION:Library
SUMMARY;LANGUAGE=en-us:K-2 Library
RRULE:FREQ=WEEKLY;INTERVAL=1;UNTIL=20200930;
SEQUENCE:0
DESCRIPTION:K-2 Library
END:VEVENT
TRANSP:TRANSPARENT
END:VCALENDAR
