BEGIN:VCALENDAR
VERSION:2.0
PRODID:-//Department Of Education//25592205-e2b5-4c74-b06f-acc00ae36440
BEGIN:VTIMEZONE
TZID:Australia/Sydney
TZURL:http://tzurl.org/zoneinfo-outlook/Australia/Sydney
X-LIC-LOCATION:Australia/Sydney
BEGIN:STANDARD
TZOFFSETFROM:+1100
TZOFFSETTO:+1000
TZNAME:AEST
DTSTART:19700405T030000
RRULE:FREQ=YEARLY;BYMONTH=4;BYDAY=1SU
END:STANDARD
BEGIN:DAYLIGHT
TZOFFSETFROM:+1000
TZOFFSETTO:+1100
TZNAME:AEDT
DTSTART:19701004T020000
RRULE:FREQ=YEARLY;BYMONTH=10;BYDAY=1SU
END:DAYLIGHT
END:VTIMEZONE
CALSCALE:GREGORIAN
X-WR-TIMEZONE:Australia/Sydney
BEGIN:VEVENT
DTSTART;TZID=Australia/Sydney:20191007T090000
DTEND;TZID=Australia/Sydney:20191007T093000
DTSTAMP:20191007T000000Z
UID:e465c17b-41d4-4704-b6cb-070d0afafdba
LOCATION:Library
SUMMARY;LANGUAGE=en-us:3-6 Library
RRULE:FREQ=WEEKLY;INTERVAL=1;UNTIL=20201007;
SEQUENCE:0
DESCRIPTION:3-6 Library
END:VEVENT
TRANSP:TRANSPARENT
END:VCALENDAR
