BEGIN:VCALENDAR
VERSION:2.0
PRODID:-//Department Of Education//c46ad6ef-662d-4b59-8c5b-ad25c0f83d7a
BEGIN:VTIMEZONE
TZID:Australia/Sydney
TZURL:http://tzurl.org/zoneinfo-outlook/Australia/Sydney
X-LIC-LOCATION:Australia/Sydney
BEGIN:STANDARD
TZOFFSETFROM:+1100
TZOFFSETTO:+1000
TZNAME:AEST
DTSTART:19700405T030000
RRULE:FREQ=YEARLY;BYMONTH=4;BYDAY=1SU
END:STANDARD
BEGIN:DAYLIGHT
TZOFFSETFROM:+1000
TZOFFSETTO:+1100
TZNAME:AEDT
DTSTART:19701004T020000
RRULE:FREQ=YEARLY;BYMONTH=10;BYDAY=1SU
END:DAYLIGHT
END:VTIMEZONE
CALSCALE:GREGORIAN
X-WR-TIMEZONE:Australia/Sydney
BEGIN:VEVENT
DTSTART;TZID=Australia/Sydney:20191104T090000
DTEND;TZID=Australia/Sydney:20191104T093000
DTSTAMP:20191104T000000Z
UID:dfb68fe9-ab54-4b4e-b56a-2e68635b4b0a
LOCATION:Library
SUMMARY;LANGUAGE=en-us:3-6 Library
RRULE:FREQ=WEEKLY;INTERVAL=1;UNTIL=20201104;
SEQUENCE:0
DESCRIPTION:3-6 Library
END:VEVENT
TRANSP:TRANSPARENT
END:VCALENDAR
